BEGIN:VCALENDAR
VERSION:2.0
PRODID:-//Kino Tuškanac//Filmski programi//HR
BEGIN:VEVENT
UID:5df87b3822842243c42c9d0fdcf7fb6c@kinotuskanac.hr
DTSTAMP:20260423T111514Z
DTSTART:20140201T210000
DTEND:20140201T230000
SUMMARY:Probušeni dolar
LOCATION:Kino Tuškanac
DESCRIPTION:Un dollaro bucato, Giorgio Ferroni  Giorgio Stegani, Giorgio Ferroni, Giorgio Stegani R: Giorgio Ferroni
END:VEVENT
END:VCALENDAR