BEGIN:VCALENDAR
VERSION:2.0
PRODID:-//Kino Tuškanac//Filmski programi//HR
BEGIN:VEVENT
UID:3c9392e52a916a7fb80bd0ec745d3b88@kinotuskanac.hr
DTSTAMP:20260423T113315Z
DTSTART:20140213T200000
DTEND:20140213T220000
SUMMARY:As pik - loša sudbina
LOCATION:Kino Tuškanac
DESCRIPTION:2012. R: Draško Đurović
END:VEVENT
END:VCALENDAR