BEGIN:VCALENDAR
VERSION:2.0
PRODID:-//Kino Tuškanac//Filmski programi//HR
BEGIN:VEVENT
UID:bcb875c8ec7ec08aedb35871d6286649@kinotuskanac.hr
DTSTAMP:20260423T134839Z
DTSTART:20140214T200000
DTEND:20140214T220000
SUMMARY:Muškarci
LOCATION:Kino Tuškanac
DESCRIPTION:1963. R: Milo Đukanović
END:VEVENT
END:VCALENDAR