BEGIN:VCALENDAR
VERSION:2.0
PRODID:-//Kino Tuškanac//Filmski programi//HR
BEGIN:VEVENT
UID:611df841ac15554257aa423353bd4d1a@kinotuskanac.hr
DTSTAMP:20260423T144641Z
DTSTART:20040320T190000
DTEND:20040320T210000
SUMMARY:Tajne i laži
LOCATION:Kino Tuškanac
DESCRIPTION:Secrets & Lies, 1996 R: Mike Leigh
END:VEVENT
END:VCALENDAR