BEGIN:VCALENDAR
VERSION:2.0
PRODID:-//Kino Tuškanac//Filmski programi//HR
BEGIN:VEVENT
UID:c333fe5893b0ffa294701470d6f0fd6b@kinotuskanac.hr
DTSTAMP:20260420T011841Z
DTSTART:20140218T190000
DTEND:20140218T210000
SUMMARY:Zemlja (1930)
LOCATION:Kino Tuškanac
DESCRIPTION:Zemlya, 1930 R: Aleksandr Dovženko
END:VEVENT
END:VCALENDAR