BEGIN:VCALENDAR
VERSION:2.0
PRODID:-//Kino Tuškanac//Filmski programi//HR
BEGIN:VEVENT
UID:39746527f2c00ba4a0f71f4eb02d256d@kinotuskanac.hr
DTSTAMP:20260420T011637Z
DTSTART:20140219T210000
DTEND:20140219T230000
SUMMARY:Zemlja (1930)
LOCATION:Kino Tuškanac
DESCRIPTION:Zemlya, 1930 R: Aleksandr Dovženko
END:VEVENT
END:VCALENDAR