BEGIN:VCALENDAR
VERSION:2.0
PRODID:-//Kino Tuškanac//Filmski programi//HR
BEGIN:VEVENT
UID:ee9020ecbc3cbe584abe7f987b8025d9@kinotuskanac.hr
DTSTAMP:20260425T173642Z
DTSTART:20140210T210000
DTEND:20140210T230000
SUMMARY:Kavez ludosti
LOCATION:Kino Tuškanac
DESCRIPTION:La cage aux folles, 1978. R: Édouard Molinaro
END:VEVENT
END:VCALENDAR