BEGIN:VCALENDAR
VERSION:2.0
PRODID:-//Kino Tuškanac//Filmski programi//HR
BEGIN:VEVENT
UID:b49a85f164158034fb988619287447dc@kinotuskanac.hr
DTSTAMP:20260425T173102Z
DTSTART:20140212T190000
DTEND:20140212T210000
SUMMARY:Kavez ludosti
LOCATION:Kino Tuškanac
DESCRIPTION:La cage aux folles, 1978. R: Édouard Molinaro
END:VEVENT
END:VCALENDAR