BEGIN:VCALENDAR
VERSION:2.0
PRODID:-//Kino Tuškanac//Filmski programi//HR
BEGIN:VEVENT
UID:3e4dcac1afe7ee6dead9cd1ed4559f70@kinotuskanac.hr
DTSTAMP:20260419T141623Z
DTSTART:20140226T190000
DTEND:20140226T210000
SUMMARY:Kraljevstvo Solomonovo
LOCATION:Kino Tuškanac
DESCRIPTION:Molke Soleiman, 2010. R: Shahriar Bahrani
END:VEVENT
END:VCALENDAR