BEGIN:VCALENDAR
VERSION:2.0
PRODID:-//Kino Tuškanac//Filmski programi//HR
BEGIN:VEVENT
UID:aef8f372358b9bceedb057f561df04fc@kinotuskanac.hr
DTSTAMP:20260419T141636Z
DTSTART:20140227T210000
DTEND:20140227T230000
SUMMARY:Kraljevstvo Solomonovo
LOCATION:Kino Tuškanac
DESCRIPTION:Molke Soleiman, 2010. R: Shahriar Bahrani
END:VEVENT
END:VCALENDAR