BEGIN:VCALENDAR
VERSION:2.0
PRODID:-//Kino Tuškanac//Filmski programi//HR
BEGIN:VEVENT
UID:b3daddc6393c1822fc53fd9cb1bb0253@kinotuskanac.hr
DTSTAMP:20260419T205725Z
DTSTART:20140228T210000
DTEND:20140228T230000
SUMMARY:Voljeno nebo
LOCATION:Kino Tuškanac
DESCRIPTION:Aseman-e mahboub, 2010. R: Dariush Mehrjui
END:VEVENT
END:VCALENDAR