BEGIN:VCALENDAR
VERSION:2.0
PRODID:-//Kino Tuškanac//Filmski programi//HR
BEGIN:VEVENT
UID:81a0d8832ffeceaba2136fb5e63717be@kinotuskanac.hr
DTSTAMP:20260421T092851Z
DTSTART:20140301T190000
DTEND:20140301T210000
SUMMARY:Voljeno nebo
LOCATION:Kino Tuškanac
DESCRIPTION:Aseman-e mahboub, 2010. R: Dariush Mehrjui
END:VEVENT
END:VCALENDAR