BEGIN:VCALENDAR
VERSION:2.0
PRODID:-//Kino Tuškanac//Filmski programi//HR
BEGIN:VEVENT
UID:3611d81f93f99ebf6da7f28d5b5407cf@kinotuskanac.hr
DTSTAMP:20260420T174951Z
DTSTART:20140305T190000
DTEND:20140305T210000
SUMMARY:Sestra
LOCATION:Kino Tuškanac
DESCRIPTION:L'enfant d'un haut, Francuska, Švicarska, 2012 R: Ursula Meier
END:VEVENT
END:VCALENDAR