BEGIN:VCALENDAR
VERSION:2.0
PRODID:-//Kino Tuškanac//Filmski programi//HR
BEGIN:VEVENT
UID:b566c6b54a113bae1b80825b9eb0bdf6@kinotuskanac.hr
DTSTAMP:20260422T061059Z
DTSTART:20140318T210000
DTEND:20140318T230000
SUMMARY:Praznični dan
LOCATION:Kino Tuškanac
DESCRIPTION:Jour de fête, Francuska, 1949 R: Jacques Tati
END:VEVENT
END:VCALENDAR