BEGIN:VCALENDAR
VERSION:2.0
PRODID:-//Kino Tuškanac//Filmski programi//HR
BEGIN:VEVENT
UID:8b3dc63c7aa1c6dd12aa356265bbb0f6@kinotuskanac.hr
DTSTAMP:20260419T205704Z
DTSTART:20140320T190000
DTEND:20140320T210000
SUMMARY:Ljepotica dana
LOCATION:Kino Tuškanac
DESCRIPTION:Belle de jour, Francuska, 1967 R: Luis Buñuel
END:VEVENT
END:VCALENDAR