BEGIN:VCALENDAR
VERSION:2.0
PRODID:-//Kino Tuškanac//Filmski programi//HR
BEGIN:VEVENT
UID:05c01cb1804c5c11a5fe39552221ae9f@kinotuskanac.hr
DTSTAMP:20260423T090459Z
DTSTART:20140322T190000
DTEND:20140322T210000
SUMMARY:Rocco i njegova braća
LOCATION:Kino Tuškanac
DESCRIPTION:Rocco e i suoi fratelli, Italija, Francuska, 1960 | Mjesto prikazivanja filma: Centar za kulturu Histrionski dom (Ilica 90) R: Luchino Visconti
END:VEVENT
END:VCALENDAR