BEGIN:VCALENDAR
VERSION:2.0
PRODID:-//Kino Tuškanac//Filmski programi//HR
BEGIN:VEVENT
UID:67c67c8ed59f12228a02f9958be7b02a@kinotuskanac.hr
DTSTAMP:20260419T185543Z
DTSTART:20140324T190000
DTEND:20140324T210000
SUMMARY:Metropolis
LOCATION:Kino Tuškanac
DESCRIPTION:Njemačka, 1927 R: Fritz Lang
END:VEVENT
END:VCALENDAR