BEGIN:VCALENDAR
VERSION:2.0
PRODID:-//Kino Tuškanac//Filmski programi//HR
BEGIN:VEVENT
UID:809ddda4bb7907ae3773e3b8b835b76c@kinotuskanac.hr
DTSTAMP:20260425T031318Z
DTSTART:20140329T190000
DTEND:20140329T210000
SUMMARY:Nanook sa sjevera
LOCATION:Kino Tuškanac
DESCRIPTION:Nanook of the North, SAD, Francuska, 1922 R: Robert J. Flaherty
END:VEVENT
END:VCALENDAR