BEGIN:VCALENDAR
VERSION:2.0
PRODID:-//Kino Tuškanac//Filmski programi//HR
BEGIN:VEVENT
UID:6e0620eeef16a652201242e47378153d@kinotuskanac.hr
DTSTAMP:20260420T052400Z
DTSTART:20140314T190000
DTEND:20140314T210000
SUMMARY:Martin u oblacima
LOCATION:Kino Tuškanac
DESCRIPTION:1961 R: Branko Bauer
END:VEVENT
END:VCALENDAR