BEGIN:VCALENDAR
VERSION:2.0
PRODID:-//Kino Tuškanac//Filmski programi//HR
BEGIN:VEVENT
UID:783b126307c4dde4c981d31a19a06b60@kinotuskanac.hr
DTSTAMP:20260425T031213Z
DTSTART:20140314T210000
DTEND:20140314T230000
SUMMARY:Tko pjeva zlo ne misli
LOCATION:Kino Tuškanac
DESCRIPTION:Hrvatska, 1970 | Mjesto prikazivanja filma: Studio-galerija KLET (Ilica 73) R: Krešo Golik
END:VEVENT
END:VCALENDAR