BEGIN:VCALENDAR
VERSION:2.0
PRODID:-//Kino Tuškanac//Filmski programi//HR
BEGIN:VEVENT
UID:a8a2a08acd41272d1b403c9704260c06@kinotuskanac.hr
DTSTAMP:20260419T161731Z
DTSTART:20140315T190000
DTEND:20140315T210000
SUMMARY:Samo jednom se ljubi
LOCATION:Kino Tuškanac
DESCRIPTION:1981 R: Rajko Grlić
END:VEVENT
END:VCALENDAR