BEGIN:VCALENDAR
VERSION:2.0
PRODID:-//Kino Tuškanac//Filmski programi//HR
BEGIN:VEVENT
UID:5e14d5a1f91c1e99cd4c140a1c540048@kinotuskanac.hr
DTSTAMP:20260424T143309Z
DTSTART:20140416T210000
DTEND:20140416T230000
SUMMARY:Zvijezde i vojnici
LOCATION:Kino Tuškanac
DESCRIPTION:Csillagosok, katonák, 1967. R: Miklós Jancsó
END:VEVENT
END:VCALENDAR