BEGIN:VCALENDAR
VERSION:2.0
PRODID:-//Kino Tuškanac//Filmski programi//HR
BEGIN:VEVENT
UID:5413a61e0579b62224eadc13314e2520@kinotuskanac.hr
DTSTAMP:20260424T143439Z
DTSTART:20140417T190000
DTEND:20140417T210000
SUMMARY:Zvijezde i vojnici
LOCATION:Kino Tuškanac
DESCRIPTION:Csillagosok, katonák, 1967. R: Miklós Jancsó
END:VEVENT
END:VCALENDAR