BEGIN:VCALENDAR
VERSION:2.0
PRODID:-//Kino Tuškanac//Filmski programi//HR
BEGIN:VEVENT
UID:d3b2d3fd8953b7717d2626b71e2668a8@kinotuskanac.hr
DTSTAMP:20260423T163432Z
DTSTART:20140609T190000
DTEND:20140609T210000
SUMMARY:Tajne kus-kusa
LOCATION:Kino Tuškanac
DESCRIPTION:La graine et le mulet, 2007 R: Abdellatif Kechiche
END:VEVENT
END:VCALENDAR