BEGIN:VCALENDAR
VERSION:2.0
PRODID:-//Kino Tuškanac//Filmski programi//HR
BEGIN:VEVENT
UID:0b20c0adbf2a387bf96130d988426393@kinotuskanac.hr
DTSTAMP:20260423T163556Z
DTSTART:20140612T190000
DTEND:20140612T210000
SUMMARY:Tajne kus-kusa
LOCATION:Kino Tuškanac
DESCRIPTION:La graine et le mulet, 2007 R: Abdellatif Kechiche
END:VEVENT
END:VCALENDAR