BEGIN:VCALENDAR
VERSION:2.0
PRODID:-//Kino Tuškanac//Filmski programi//HR
BEGIN:VEVENT
UID:16b4e094c4fec2193aa371517a843b91@kinotuskanac.hr
DTSTAMP:20260421T093006Z
DTSTART:20140617T190000
DTEND:20140617T210000
SUMMARY:Za sve je kriv Voltaire
LOCATION:Kino Tuškanac
DESCRIPTION:La faute à Voltaire, 2000. R: Abdellatif Kechiche
END:VEVENT
END:VCALENDAR