BEGIN:VCALENDAR
VERSION:2.0
PRODID:-//Kino Tuškanac//Filmski programi//HR
BEGIN:VEVENT
UID:c04096ea6e59ef9bb39c8b5684679419@kinotuskanac.hr
DTSTAMP:20260423T143711Z
DTSTART:20140624T210000
DTEND:20140624T230000
SUMMARY:Lola
LOCATION:Kino Tuškanac
DESCRIPTION:Francuska, Italija, 1961 | Mjesto prikazivanja filma: Kulturno informativni centar KIC (Preradovićeva ul. 5) R: Jacques Demy
END:VEVENT
END:VCALENDAR