BEGIN:VCALENDAR
VERSION:2.0
PRODID:-//Kino Tuškanac//Filmski programi//HR
BEGIN:VEVENT
UID:feae3b11c2749edc2b709809fd390013@kinotuskanac.hr
DTSTAMP:20260419T175219Z
DTSTART:20140613T210000
DTEND:20140613T230000
SUMMARY:Servantes iz malog mista
LOCATION:Kino Tuškanac
DESCRIPTION:1982. R: Danijel Marušić
END:VEVENT
END:VCALENDAR