BEGIN:VCALENDAR
VERSION:2.0
PRODID:-//Kino Tuškanac//Filmski programi//HR
BEGIN:VEVENT
UID:a1e34b65a078510e090243d2641cf439@kinotuskanac.hr
DTSTAMP:20260423T085735Z
DTSTART:20140330T190000
DTEND:20140330T210000
SUMMARY:Rocco i njegova braća
LOCATION:Kino Tuškanac
DESCRIPTION:Rocco e i suoi fratelli, Italija, Francuska, 1960 | Mjesto prikazivanja filma: Centar za kulturu Histrionski dom (Ilica 90) R: Luchino Visconti
END:VEVENT
END:VCALENDAR