BEGIN:VCALENDAR
VERSION:2.0
PRODID:-//Kino Tuškanac//Filmski programi//HR
BEGIN:VEVENT
UID:809e5be961871dccf2007948422fbe10@kinotuskanac.hr
DTSTAMP:20260419T225127Z
DTSTART:20140701T110000
DTEND:20140701T130000
SUMMARY:Princeza Mononoke
LOCATION:Kino Tuškanac
DESCRIPTION:Mononoke-hime, Japan, 1997 | Mjesto prikazivanja filma: Centar za kulturu Histrionski dom (Ilica 90) R: Hayao Miyazaki
END:VEVENT
END:VCALENDAR