BEGIN:VCALENDAR
VERSION:2.0
PRODID:-//Kino Tuškanac//Filmski programi//HR
BEGIN:VEVENT
UID:02216a51674a6a6f2a58399d08ccf340@kinotuskanac.hr
DTSTAMP:20260420T052417Z
DTSTART:20140703T110000
DTEND:20140703T130000
SUMMARY:Martin u oblacima
LOCATION:Kino Tuškanac
DESCRIPTION:1961 R: Branko Bauer
END:VEVENT
END:VCALENDAR