BEGIN:VCALENDAR
VERSION:2.0
PRODID:-//Kino Tuškanac//Filmski programi//HR
BEGIN:VEVENT
UID:4acd8d7873e731611819a86f5ae910cb@kinotuskanac.hr
DTSTAMP:20260426T033405Z
DTSTART:20140708T110000
DTEND:20140708T130000
SUMMARY:Sedmi kontinent (1966)
LOCATION:Kino Tuškanac
DESCRIPTION:1966 R: Dušan Vukotić
END:VEVENT
END:VCALENDAR