BEGIN:VCALENDAR
VERSION:2.0
PRODID:-//Kino Tuškanac//Filmski programi//HR
BEGIN:VEVENT
UID:2e20b5cc0ef18c3fcfde2f7670648673@kinotuskanac.hr
DTSTAMP:20260423T135156Z
DTSTART:20140913T200000
DTEND:20140913T220000
SUMMARY:Četiri kilometra na sat
LOCATION:Kino Tuškanac
DESCRIPTION:1958. R: Velimir Stojanović
END:VEVENT
END:VCALENDAR