BEGIN:VCALENDAR
VERSION:2.0
PRODID:-//Kino Tuškanac//Filmski programi//HR
BEGIN:VEVENT
UID:0c2d7fa3d586cae567b48d6f60cfe9aa@kinotuskanac.hr
DTSTAMP:20260423T145514Z
DTSTART:20140914T200000
DTEND:20140914T220000
SUMMARY:Campo Mamula
LOCATION:Kino Tuškanac
DESCRIPTION:1959. R: Velimir Stojanović
END:VEVENT
END:VCALENDAR