BEGIN:VCALENDAR
VERSION:2.0
PRODID:-//Kino Tuškanac//Filmski programi//HR
BEGIN:VEVENT
UID:f8bf1c5dbb73d8a7505d9f9fb8644dbe@kinotuskanac.hr
DTSTAMP:20260420T160656Z
DTSTART:20140926T210000
DTEND:20140926T230000
SUMMARY:Viola
LOCATION:Kino Tuškanac
DESCRIPTION:2012. R: Matías Pińeiro
END:VEVENT
END:VCALENDAR