BEGIN:VCALENDAR
VERSION:2.0
PRODID:-//Kino Tuškanac//Filmski programi//HR
BEGIN:VEVENT
UID:739ff3b21d6273d6fa94ad2892408d50@kinotuskanac.hr
DTSTAMP:20260420T160807Z
DTSTART:20140927T190000
DTEND:20140927T210000
SUMMARY:Viola
LOCATION:Kino Tuškanac
DESCRIPTION:2012. R: Matías Pińeiro
END:VEVENT
END:VCALENDAR