BEGIN:VCALENDAR
VERSION:2.0
PRODID:-//Kino Tuškanac//Filmski programi//HR
BEGIN:VEVENT
UID:87fc070140cbfec17f057858ce780134@kinotuskanac.hr
DTSTAMP:20260419T142009Z
DTSTART:20141003T200000
DTEND:20141003T220000
SUMMARY:Žaba smijalica
LOCATION:Kino Tuškanac
DESCRIPTION:Warau kaeru, 2002. R: Hideyuki Hirayama
END:VEVENT
END:VCALENDAR