BEGIN:VCALENDAR
VERSION:2.0
PRODID:-//Kino Tuškanac//Filmski programi//HR
BEGIN:VEVENT
UID:08d3bd9d771e669a90027c5bdf463d25@kinotuskanac.hr
DTSTAMP:20260419T225654Z
DTSTART:20141005T200000
DTEND:20141005T220000
SUMMARY:Pacchigi! Ljubav i mir
LOCATION:Kino Tuškanac
DESCRIPTION:Pacchigi! Love & Peace, 2007. R: Kazuyuki Izutsu
END:VEVENT
END:VCALENDAR