BEGIN:VCALENDAR
VERSION:2.0
PRODID:-//Kino Tuškanac//Filmski programi//HR
BEGIN:VEVENT
UID:25d55cff088f3b40858d265a7412edbb@kinotuskanac.hr
DTSTAMP:20260422T215232Z
DTSTART:20141010T210000
DTEND:20141010T230000
SUMMARY:Kako se snimao posljednji film
LOCATION:Kino Tuškanac
DESCRIPTION:Making of, le dernier film, 2006. R: Nouri Bouzid
END:VEVENT
END:VCALENDAR