BEGIN:VCALENDAR
VERSION:2.0
PRODID:-//Kino Tuškanac//Filmski programi//HR
BEGIN:VEVENT
UID:21c97fab09b3c31051e162e91695d267@kinotuskanac.hr
DTSTAMP:20260422T215258Z
DTSTART:20141013T190000
DTEND:20141013T210000
SUMMARY:Kako se snimao posljednji film
LOCATION:Kino Tuškanac
DESCRIPTION:Making of, le dernier film, 2006. R: Nouri Bouzid
END:VEVENT
END:VCALENDAR