BEGIN:VCALENDAR
VERSION:2.0
PRODID:-//Kino Tuškanac//Filmski programi//HR
BEGIN:VEVENT
UID:f6dcbea738aa28a686e6d58366c1193e@kinotuskanac.hr
DTSTAMP:20260422T025933Z
DTSTART:20141220T190000
DTEND:20141220T210000
SUMMARY:Čudnovate zgode Šegrta Hlapića
LOCATION:Kino Tuškanac
DESCRIPTION:1997. R: Milan Blažeković
END:VEVENT
END:VCALENDAR