BEGIN:VCALENDAR
VERSION:2.0
PRODID:-//Kino Tuškanac//Filmski programi//HR
BEGIN:VEVENT
UID:f7953f5f8dbd46e26aa0b532b4dc3123@kinotuskanac.hr
DTSTAMP:20260419T225504Z
DTSTART:20141004T110000
DTEND:20141004T130000
SUMMARY:Ukleta škola
LOCATION:Kino Tuškanac
DESCRIPTION:Gakkô no kaidan, 1995. R: Hideyuki Hirayama
END:VEVENT
END:VCALENDAR