BEGIN:VCALENDAR
VERSION:2.0
PRODID:-//Kino Tuškanac//Filmski programi//HR
BEGIN:VEVENT
UID:b1743d1ade2dc495344840d2ead8ed94@kinotuskanac.hr
DTSTAMP:20260419T141942Z
DTSTART:20141125T190000
DTEND:20141125T210000
SUMMARY:Napulj je pjesma
LOCATION:Kino Tuškanac
DESCRIPTION:Song'e Napule, 2013. R: Antonio Manetti
END:VEVENT
END:VCALENDAR