BEGIN:VCALENDAR
VERSION:2.0
PRODID:-//Kino Tuškanac//Filmski programi//HR
BEGIN:VEVENT
UID:05f57b3fc5efb6c56f01b44788f4c7ed@kinotuskanac.hr
DTSTAMP:20260423T145946Z
DTSTART:20141127T190000
DTEND:20141127T210000
SUMMARY:Mafija ubija samo ljeti
LOCATION:Kino Tuškanac
DESCRIPTION:La mafia uccide solo d'estate, 2013. R: Pif (Pierfrancesco Diliberto)
END:VEVENT
END:VCALENDAR