BEGIN:VCALENDAR
VERSION:2.0
PRODID:-//Kino Tuškanac//Filmski programi//HR
BEGIN:VEVENT
UID:62f91c73a24bbb02f26ebdd6f9f7e668@kinotuskanac.hr
DTSTAMP:20260423T112253Z
DTSTART:20141128T190000
DTEND:20141128T210000
SUMMARY:Božja milost
LOCATION:Kino Tuškanac
DESCRIPTION:In grazia di Dio, 2013. R: Edoardo Winspeare
END:VEVENT
END:VCALENDAR