BEGIN:VCALENDAR
VERSION:2.0
PRODID:-//Kino Tuškanac//Filmski programi//HR
BEGIN:VEVENT
UID:2a92dab7be9904c9ca468d309044d8f6@kinotuskanac.hr
DTSTAMP:20260423T145441Z
DTSTART:20141129T190000
DTEND:20141129T210000
SUMMARY:Mogu prestati kad god želim
LOCATION:Kino Tuškanac
DESCRIPTION:Smetto quando voglio, 2013. R: Sydney Sibilia
END:VEVENT
END:VCALENDAR