BEGIN:VCALENDAR
VERSION:2.0
PRODID:-//Kino Tuškanac//Filmski programi//HR
BEGIN:VEVENT
UID:8a57078b1557221142735c8c37cc6e8b@kinotuskanac.hr
DTSTAMP:20260422T082417Z
DTSTART:20141130T190000
DTEND:20141130T210000
SUMMARY:Stolac sreće
LOCATION:Kino Tuškanac
DESCRIPTION:La sedia della felicità, 2013. R: Carlo Mazzacurati
END:VEVENT
END:VCALENDAR