BEGIN:VCALENDAR
VERSION:2.0
PRODID:-//Kino Tuškanac//Filmski programi//HR
BEGIN:VEVENT
UID:768c8dc8cd02dcc29f0489bdc68ba01e@kinotuskanac.hr
DTSTAMP:20260420T092559Z
DTSTART:20150129T190000
DTEND:20150129T210000
SUMMARY:Iza plavog neba
LOCATION:Kino Tuškanac
DESCRIPTION:Himlen är oskyldigt blå, 2010. R: Hannes Holm
END:VEVENT
END:VCALENDAR