BEGIN:VCALENDAR
VERSION:2.0
PRODID:-//Kino Tuškanac//Filmski programi//HR
BEGIN:VEVENT
UID:dc66370688046a41ed99d9ccebeb31b0@kinotuskanac.hr
DTSTAMP:20260420T092938Z
DTSTART:20150130T203000
DTEND:20150130T223000
SUMMARY:Iza plavog neba
LOCATION:Kino Tuškanac
DESCRIPTION:Himlen är oskyldigt blå, 2010. R: Hannes Holm
END:VEVENT
END:VCALENDAR