BEGIN:VCALENDAR
VERSION:2.0
PRODID:-//Kino Tuškanac//Filmski programi//HR
BEGIN:VEVENT
UID:c2dc68d11b23d450778eb66bb68ac93b@kinotuskanac.hr
DTSTAMP:20260420T052603Z
DTSTART:20150131T190000
DTEND:20150131T210000
SUMMARY:Palme
LOCATION:Kino Tuškanac
DESCRIPTION:2012. R: Kristina Lindström, Maud Nycander
END:VEVENT
END:VCALENDAR